BEGIN:VCALENDAR
VERSION:2.0
PRODID:-//3nity.com//3nity CMS//EN
BEGIN:VEVENT
SUMMARY:Sunday Worship
UID:2026-07-18-1190688@100752.stablerack.com
SEQUENCE:0
STATUS:CONFIRMED
DTSTART:20260503T110000
DTEND:20260503T130000
DTSTAMP:20161222T120000
LOCATION: Word Alive Ministries, 209 E Texas Ave, Baytown, TX 77520
DESCRIPTION:
URL:http://100752.stablerack.com
END:VEVENT
END:VCALENDAR
